BEGIN:VCALENDAR
VERSION:2.0
PRODID:-//Hoochenanny Festival - ECPv6.15.19//NONSGML v1.0//EN
CALSCALE:GREGORIAN
METHOD:PUBLISH
X-WR-CALNAME:Hoochenanny Festival
X-ORIGINAL-URL:https://hoochenanny.com
X-WR-CALDESC:Events for Hoochenanny Festival
REFRESH-INTERVAL;VALUE=DURATION:PT1H
X-Robots-Tag:noindex
X-PUBLISHED-TTL:PT1H
BEGIN:VTIMEZONE
TZID:America/New_York
BEGIN:DAYLIGHT
TZOFFSETFROM:-0500
TZOFFSETTO:-0400
TZNAME:EDT
DTSTART:20250309T070000
END:DAYLIGHT
BEGIN:STANDARD
TZOFFSETFROM:-0400
TZOFFSETTO:-0500
TZNAME:EST
DTSTART:20251102T060000
END:STANDARD
BEGIN:DAYLIGHT
TZOFFSETFROM:-0500
TZOFFSETTO:-0400
TZNAME:EDT
DTSTART:20260308T070000
END:DAYLIGHT
BEGIN:STANDARD
TZOFFSETFROM:-0400
TZOFFSETTO:-0500
TZNAME:EST
DTSTART:20261101T060000
END:STANDARD
BEGIN:DAYLIGHT
TZOFFSETFROM:-0500
TZOFFSETTO:-0400
TZNAME:EDT
DTSTART:20270314T070000
END:DAYLIGHT
BEGIN:STANDARD
TZOFFSETFROM:-0400
TZOFFSETTO:-0500
TZNAME:EST
DTSTART:20271107T060000
END:STANDARD
END:VTIMEZONE
BEGIN:VEVENT
DTSTART;TZID=America/New_York:20260815T181500
DTEND;TZID=America/New_York:20260815T193000
DTSTAMP:20260424T194641
CREATED:20260402T230451Z
LAST-MODIFIED:20260402T230451Z
UID:1193-1786817700-1786822200@hoochenanny.com
SUMMARY:Guster
DESCRIPTION:Guster has spent over three decades together as a band\, building a career that includes hits on the Billboard charts\, working with producers like Steve Lillywhite and Richard Swift\, launching their own music festival\, and amassing an ardent fanbase through relentless touring and a deeply communal live show. Formed in 1991\, the band has grown from playing dorm rooms to cultivating a worldwide audience\, sustaining a strong connection with fans through a shared sense of trust\, creativity\, and community. \nKnown for their democratic creative process and ever-evolving sound\, Guster continue to push themselves while staying rooted in the raw sincerity that has defined them from the start. Their music blends acoustic warmth\, rich instrumentation\, and emotional depth\, often reflecting on the complexities of modern life while still leaving listeners with a sense of hope. With a reputation for dynamic performances and a lasting bond with their audience\, Guster remains as inspired\, passionate\, and creatively driven as ever. \n\n\n\n\n\n\n\n\nguster.com \nFacebook | Instagram | TikTok | YouTube
URL:https://hoochenanny.com/event/guster/
LOCATION:Highball Stage
CATEGORIES:Music
ATTACH;FMTTYPE=image/png:https://hoochenanny.com/wp-content/uploads/2026/04/Guster.png
END:VEVENT
END:VCALENDAR