BEGIN:VCALENDAR
VERSION:2.0
PRODID:-//Hoochenanny Festival - ECPv6.15.19//NONSGML v1.0//EN
CALSCALE:GREGORIAN
METHOD:PUBLISH
X-WR-CALNAME:Hoochenanny Festival
X-ORIGINAL-URL:https://hoochenanny.com
X-WR-CALDESC:Events for Hoochenanny Festival
REFRESH-INTERVAL;VALUE=DURATION:PT1H
X-Robots-Tag:noindex
X-PUBLISHED-TTL:PT1H
BEGIN:VTIMEZONE
TZID:America/New_York
BEGIN:DAYLIGHT
TZOFFSETFROM:-0500
TZOFFSETTO:-0400
TZNAME:EDT
DTSTART:20250309T070000
END:DAYLIGHT
BEGIN:STANDARD
TZOFFSETFROM:-0400
TZOFFSETTO:-0500
TZNAME:EST
DTSTART:20251102T060000
END:STANDARD
BEGIN:DAYLIGHT
TZOFFSETFROM:-0500
TZOFFSETTO:-0400
TZNAME:EDT
DTSTART:20260308T070000
END:DAYLIGHT
BEGIN:STANDARD
TZOFFSETFROM:-0400
TZOFFSETTO:-0500
TZNAME:EST
DTSTART:20261101T060000
END:STANDARD
BEGIN:DAYLIGHT
TZOFFSETFROM:-0500
TZOFFSETTO:-0400
TZNAME:EDT
DTSTART:20270314T070000
END:DAYLIGHT
BEGIN:STANDARD
TZOFFSETFROM:-0400
TZOFFSETTO:-0500
TZNAME:EST
DTSTART:20271107T060000
END:STANDARD
END:VTIMEZONE
BEGIN:VEVENT
DTSTART;TZID=America/New_York:20260814T204500
DTEND;TZID=America/New_York:20260814T220000
DTSTAMP:20260424T151706
CREATED:20260402T224223Z
LAST-MODIFIED:20260402T224551Z
UID:1189-1786740300-1786744800@hoochenanny.com
SUMMARY:Lit
DESCRIPTION:Lit is considered one of the preeminent bands to have come out of the post-grunge era of the late 90’s and helped define an entire generation of SoCal power punk with hard-charging hits like “My Own Worst Enemy\,” “Miserable\,” “Zip-Lock\,”\, and “Lipstick & Bruises.” The band has released 6 worldwide studio albums\, including their RIAA Certified Platinum A Place in the Sun\, and they are currently writing and recording to release new material. \nlitband.com \nFacebook | Instagram | YouTube | TikTok
URL:https://hoochenanny.com/event/lit/
LOCATION:Highball Stage
CATEGORIES:Music
ATTACH;FMTTYPE=image/png:https://hoochenanny.com/wp-content/uploads/2026/04/Lit.png
END:VEVENT
END:VCALENDAR